BEGIN:VCALENDAR
VERSION:2.0
PRODID:-//Alex Harris - ECPv6.15.20//NONSGML v1.0//EN
CALSCALE:GREGORIAN
METHOD:PUBLISH
X-WR-CALNAME:Alex Harris
X-ORIGINAL-URL:https://avhmusic.com
X-WR-CALDESC:Events for Alex Harris
REFRESH-INTERVAL;VALUE=DURATION:PT1H
X-Robots-Tag:noindex
X-PUBLISHED-TTL:PT1H
BEGIN:VTIMEZONE
TZID:Europe/Paris
BEGIN:DAYLIGHT
TZOFFSETFROM:+0100
TZOFFSETTO:+0200
TZNAME:CEST
DTSTART:20210328T010000
END:DAYLIGHT
BEGIN:STANDARD
TZOFFSETFROM:+0200
TZOFFSETTO:+0100
TZNAME:CET
DTSTART:20211031T010000
END:STANDARD
BEGIN:DAYLIGHT
TZOFFSETFROM:+0100
TZOFFSETTO:+0200
TZNAME:CEST
DTSTART:20220327T010000
END:DAYLIGHT
BEGIN:STANDARD
TZOFFSETFROM:+0200
TZOFFSETTO:+0100
TZNAME:CET
DTSTART:20221030T010000
END:STANDARD
BEGIN:DAYLIGHT
TZOFFSETFROM:+0100
TZOFFSETTO:+0200
TZNAME:CEST
DTSTART:20230326T010000
END:DAYLIGHT
BEGIN:STANDARD
TZOFFSETFROM:+0200
TZOFFSETTO:+0100
TZNAME:CET
DTSTART:20231029T010000
END:STANDARD
END:VTIMEZONE
BEGIN:VEVENT
DTSTART;TZID=Europe/Paris:20220723T200000
DTEND;TZID=Europe/Paris:20220723T230000
DTSTAMP:20260424T213522
CREATED:20220704T103031Z
LAST-MODIFIED:20220704T103119Z
UID:2340-1658606400-1658617200@avhmusic.com
SUMMARY:Black Dog Oven
DESCRIPTION:Alex returns to the awesome Black Dog Oven. This place has seriously awesome vibes\, great crowd and some of the best pizzas on the island. 8pm – 11pm
URL:https://avhmusic.com/event/black-dog-oven
LOCATION:Black Dog Oven\, East Quay\, Peel\, Isle of MAn\, IM5 1AR\, United Kingdom
CATEGORIES:Covers Gigs
ATTACH;FMTTYPE=image/jpeg:https://avhmusic.com/wp-content/uploads/2022/07/275253992_491665629323027_6332137563609611080_n.jpg
ORGANIZER;CN="Black Dog Oven":MAILTO:Blackdogoven@gmail.com
END:VEVENT
END:VCALENDAR