BEGIN:VCALENDAR
VERSION:2.0
PRODID:-//Alex Harris - ECPv6.15.20//NONSGML v1.0//EN
CALSCALE:GREGORIAN
METHOD:PUBLISH
X-WR-CALNAME:Alex Harris
X-ORIGINAL-URL:https://avhmusic.com
X-WR-CALDESC:Events for Alex Harris
REFRESH-INTERVAL;VALUE=DURATION:PT1H
X-Robots-Tag:noindex
X-PUBLISHED-TTL:PT1H
BEGIN:VTIMEZONE
TZID:Europe/London
BEGIN:DAYLIGHT
TZOFFSETFROM:+0000
TZOFFSETTO:+0100
TZNAME:BST
DTSTART:20220327T010000
END:DAYLIGHT
BEGIN:STANDARD
TZOFFSETFROM:+0100
TZOFFSETTO:+0000
TZNAME:GMT
DTSTART:20221030T010000
END:STANDARD
BEGIN:DAYLIGHT
TZOFFSETFROM:+0000
TZOFFSETTO:+0100
TZNAME:BST
DTSTART:20230326T010000
END:DAYLIGHT
BEGIN:STANDARD
TZOFFSETFROM:+0100
TZOFFSETTO:+0000
TZNAME:GMT
DTSTART:20231029T010000
END:STANDARD
BEGIN:DAYLIGHT
TZOFFSETFROM:+0000
TZOFFSETTO:+0100
TZNAME:BST
DTSTART:20240331T010000
END:DAYLIGHT
BEGIN:STANDARD
TZOFFSETFROM:+0100
TZOFFSETTO:+0000
TZNAME:GMT
DTSTART:20241027T010000
END:STANDARD
END:VTIMEZONE
BEGIN:VEVENT
DTSTART;TZID=Europe/London:20230610T160000
DTEND;TZID=Europe/London:20230610T173000
DTSTAMP:20260423T173025
CREATED:20230504T114342Z
LAST-MODIFIED:20230504T120045Z
UID:2387-1686412800-1686418200@avhmusic.com
SUMMARY:Alex Harris @ Bushy’s TT Village MainStage 2023
DESCRIPTION:Alex is back on the Bushy’s MainStage for the first time in 7 years. He’ll be opening up the day on Sat 3rd June and Sat 10th Jun at 4pm -5.30pm. Expect good feeling singalong anthems\, badass soul grooves and bouncy guitar pop plus some of Alex original soulful pop rock songs.
URL:https://avhmusic.com/event/alex-harris-bushys-tt-village-mainstage-2023-2
LOCATION:Bushy’s TT Village Mainstage 2023\, Villa Marina Gardens\, Douglas\, Isle of Man\, IM1 2HP\, United Kingdom
CATEGORIES:Covers Gigs,TT Gigs 2023
ATTACH;FMTTYPE=image/jpeg:https://avhmusic.com/wp-content/uploads/2023/05/343664148_971702443955720_3635002931238468649_n.jpg
END:VEVENT
END:VCALENDAR