BEGIN:VCALENDAR
VERSION:2.0
PRODID:-//Alex Harris - ECPv6.15.20//NONSGML v1.0//EN
CALSCALE:GREGORIAN
METHOD:PUBLISH
X-WR-CALNAME:Alex Harris
X-ORIGINAL-URL:https://avhmusic.com
X-WR-CALDESC:Events for Alex Harris
REFRESH-INTERVAL;VALUE=DURATION:PT1H
X-Robots-Tag:noindex
X-PUBLISHED-TTL:PT1H
BEGIN:VTIMEZONE
TZID:UTC
BEGIN:STANDARD
TZOFFSETFROM:+0000
TZOFFSETTO:+0000
TZNAME:UTC
DTSTART:20240101T000000
END:STANDARD
END:VTIMEZONE
BEGIN:VEVENT
DTSTART;TZID=UTC:20251205T200000
DTEND;TZID=UTC:20251206T000000
DTSTAMP:20260423T160115
CREATED:20251128T143258Z
LAST-MODIFIED:20251130T172006Z
UID:2661-1764964800-1764979200@avhmusic.com
SUMMARY:Songwriter Comp Heat 5
DESCRIPTION:Alex plays a 40 min set of his originals and competes for the Quids Inn songwriter of the year award. \nAlso on the bill\, Alice Dudley and Nigel Brown.  \nCome down and support original music! Order of performances chosen on the night\, so get there in time by 8pm! \n 
URL:https://avhmusic.com/event/songwriter-comp-heat-5
LOCATION:The Original Quids Inn\, 56 Loch Promenade\, Douglas\, Isle of Man\, IM1 2NA\, United Kingdom
CATEGORIES:2025,Originals Gig
ATTACH;FMTTYPE=image/jpeg:https://avhmusic.com/wp-content/uploads/2025/11/573872818_10227568387623331_7572479731365586191_n.jpg
END:VEVENT
BEGIN:VEVENT
DTSTART;TZID=UTC:20251213T210000
DTEND;TZID=UTC:20251214T000000
DTSTAMP:20260423T160115
CREATED:20251128T144721Z
LAST-MODIFIED:20251128T144721Z
UID:2664-1765659600-1765670400@avhmusic.com
SUMMARY:Christmas Party Night @ The Marine Hotel
DESCRIPTION:Alex plays The Marine Hotel in Peel\, Isle of Man for the first time for their Christmas party meal nights.
URL:https://avhmusic.com/event/christmas-party-night-the-marine-hotel
LOCATION:The Marine Hotel\, Shore Road\, Peel\, Isle of Man\, IM5 1NA\, United Kingdom
CATEGORIES:2025,Christmas,Covers Gigs
ATTACH;FMTTYPE=image/jpeg:https://avhmusic.com/wp-content/uploads/2023/05/alex-platform-1.jpg
ORGANIZER;CN="The Marine Hotel":MAILTO:sandrafaragher@manx.net
END:VEVENT
BEGIN:VEVENT
DTSTART;TZID=UTC:20251219T160000
DTEND;TZID=UTC:20251219T190000
DTSTAMP:20260423T160115
CREATED:20250910T180528Z
LAST-MODIFIED:20251215T125009Z
UID:2608-1766160000-1766170800@avhmusic.com
SUMMARY:Henderson & Glass
DESCRIPTION:Back 4pm-7pm
URL:https://avhmusic.com/event/henderson-glass-6
LOCATION:Henderson & Glass\, 11 Castle Street\, Douglas\, Isle of Man\, IM1 2EX\, United Kingdom
CATEGORIES:Covers Gigs,Douglas Gigs,Originals Gig
ATTACH;FMTTYPE=image/png:https://avhmusic.com/wp-content/uploads/2025/09/alex-at-quids--e1765803128513.png
END:VEVENT
END:VCALENDAR