BEGIN:VCALENDAR
VERSION:2.0
PRODID:-//Alex Harris - ECPv6.15.20//NONSGML v1.0//EN
CALSCALE:GREGORIAN
METHOD:PUBLISH
X-WR-CALNAME:Alex Harris
X-ORIGINAL-URL:https://avhmusic.com
X-WR-CALDESC:Events for Alex Harris
REFRESH-INTERVAL;VALUE=DURATION:PT1H
X-Robots-Tag:noindex
X-PUBLISHED-TTL:PT1H
BEGIN:VTIMEZONE
TZID:UTC
BEGIN:STANDARD
TZOFFSETFROM:+0000
TZOFFSETTO:+0000
TZNAME:UTC
DTSTART:20240101T000000
END:STANDARD
END:VTIMEZONE
BEGIN:VTIMEZONE
TZID:Europe/London
BEGIN:DAYLIGHT
TZOFFSETFROM:+0000
TZOFFSETTO:+0100
TZNAME:BST
DTSTART:20250330T010000
END:DAYLIGHT
BEGIN:STANDARD
TZOFFSETFROM:+0100
TZOFFSETTO:+0000
TZNAME:GMT
DTSTART:20251026T010000
END:STANDARD
BEGIN:DAYLIGHT
TZOFFSETFROM:+0000
TZOFFSETTO:+0100
TZNAME:BST
DTSTART:20260329T010000
END:DAYLIGHT
BEGIN:STANDARD
TZOFFSETFROM:+0100
TZOFFSETTO:+0000
TZNAME:GMT
DTSTART:20261025T010000
END:STANDARD
BEGIN:DAYLIGHT
TZOFFSETFROM:+0000
TZOFFSETTO:+0100
TZNAME:BST
DTSTART:20270328T010000
END:DAYLIGHT
BEGIN:STANDARD
TZOFFSETFROM:+0100
TZOFFSETTO:+0000
TZNAME:GMT
DTSTART:20271031T010000
END:STANDARD
END:VTIMEZONE
BEGIN:VEVENT
DTSTART;TZID=UTC:20251205T200000
DTEND;TZID=UTC:20251206T000000
DTSTAMP:20260423T232614
CREATED:20251128T143258Z
LAST-MODIFIED:20251130T172006Z
UID:2661-1764964800-1764979200@avhmusic.com
SUMMARY:Songwriter Comp Heat 5
DESCRIPTION:Alex plays a 40 min set of his originals and competes for the Quids Inn songwriter of the year award. \nAlso on the bill\, Alice Dudley and Nigel Brown.  \nCome down and support original music! Order of performances chosen on the night\, so get there in time by 8pm! \n 
URL:https://avhmusic.com/event/songwriter-comp-heat-5
LOCATION:The Original Quids Inn\, 56 Loch Promenade\, Douglas\, Isle of Man\, IM1 2NA\, United Kingdom
CATEGORIES:2025,Originals Gig
ATTACH;FMTTYPE=image/jpeg:https://avhmusic.com/wp-content/uploads/2025/11/573872818_10227568387623331_7572479731365586191_n.jpg
END:VEVENT
BEGIN:VEVENT
DTSTART;TZID=UTC:20251213T210000
DTEND;TZID=UTC:20251214T000000
DTSTAMP:20260423T232614
CREATED:20251128T144721Z
LAST-MODIFIED:20251128T144721Z
UID:2664-1765659600-1765670400@avhmusic.com
SUMMARY:Christmas Party Night @ The Marine Hotel
DESCRIPTION:Alex plays The Marine Hotel in Peel\, Isle of Man for the first time for their Christmas party meal nights.
URL:https://avhmusic.com/event/christmas-party-night-the-marine-hotel
LOCATION:The Marine Hotel\, Shore Road\, Peel\, Isle of Man\, IM5 1NA\, United Kingdom
CATEGORIES:2025,Christmas,Covers Gigs
ATTACH;FMTTYPE=image/jpeg:https://avhmusic.com/wp-content/uploads/2023/05/alex-platform-1.jpg
ORGANIZER;CN="The Marine Hotel":MAILTO:sandrafaragher@manx.net
END:VEVENT
BEGIN:VEVENT
DTSTART;TZID=UTC:20251219T160000
DTEND;TZID=UTC:20251219T190000
DTSTAMP:20260423T232614
CREATED:20250910T180528Z
LAST-MODIFIED:20251215T125009Z
UID:2608-1766160000-1766170800@avhmusic.com
SUMMARY:Henderson & Glass
DESCRIPTION:Back 4pm-7pm
URL:https://avhmusic.com/event/henderson-glass-6
LOCATION:Henderson & Glass\, 11 Castle Street\, Douglas\, Isle of Man\, IM1 2EX\, United Kingdom
CATEGORIES:Covers Gigs,Douglas Gigs,Originals Gig
ATTACH;FMTTYPE=image/png:https://avhmusic.com/wp-content/uploads/2025/09/alex-at-quids--e1765803128513.png
END:VEVENT
BEGIN:VEVENT
DTSTART;TZID=UTC:20260110T213000
DTEND;TZID=UTC:20260110T233000
DTSTAMP:20260423T232614
CREATED:20250910T181414Z
LAST-MODIFIED:20250910T181528Z
UID:2613-1768080600-1768087800@avhmusic.com
SUMMARY:Frank Matchams
DESCRIPTION:Alex back for 2026 at Matchams 9.30-11.30pm
URL:https://avhmusic.com/event/frank-matchams-4
LOCATION:Frank Matchams\, 1-3 Harris Promenade\, Douglas\, Isle of Man\, IM1 2RW\, United Kingdom
CATEGORIES:Covers Gigs,Douglas Gigs
ATTACH;FMTTYPE=image/png:https://avhmusic.com/wp-content/uploads/2024/06/cropped-Harris.png
END:VEVENT
BEGIN:VEVENT
DTSTART;TZID=UTC:20260117T211500
DTEND;TZID=UTC:20260118T000000
DTSTAMP:20260423T232614
CREATED:20260112T111555Z
LAST-MODIFIED:20260112T112328Z
UID:2744-1768684500-1768694400@avhmusic.com
SUMMARY:Quids Inn
DESCRIPTION:Alex is back for his first Quids gig of 2026! \nStart time 9.15pm
URL:https://avhmusic.com/event/quids-inn-2
LOCATION:The Original Quids Inn\, 56 Loch Promenade\, Douglas\, Isle of Man\, IM1 2NA\, United Kingdom
CATEGORIES:2026,Covers Gigs,Originals Gig
ATTACH;FMTTYPE=image/png:https://avhmusic.com/wp-content/uploads/2025/09/alex-at-quids--e1765803128513.png
END:VEVENT
BEGIN:VEVENT
DTSTART;TZID=UTC:20260131T170000
DTEND;TZID=UTC:20260131T200000
DTSTAMP:20260423T232614
CREATED:20251119T180256Z
LAST-MODIFIED:20251119T180844Z
UID:2653-1769878800-1769889600@avhmusic.com
SUMMARY:Henderson & Glass
DESCRIPTION:Alex goes back for his first Henderson & Glass gig of 2026 – gorgeous place\, great cocktails\, great ales\, great small plates\, great music and great vibes! Alex on 5-8
URL:https://avhmusic.com/event/henderson-glass-7
LOCATION:Henderson & Glass\, 11 Castle Street\, Douglas\, Isle of Man\, IM1 2EX\, United Kingdom
CATEGORIES:2026,Covers Gigs,Douglas Gigs,Originals Gig
ATTACH;FMTTYPE=image/png:https://avhmusic.com/wp-content/uploads/2025/07/logo_a18ea11a3acb4609479c3fa005cd3d64_2x.png
END:VEVENT
BEGIN:VEVENT
DTSTART;TZID=UTC:20260220T080000
DTEND;TZID=UTC:20260220T170000
DTSTAMP:20260423T232614
CREATED:20250910T181824Z
LAST-MODIFIED:20250910T181824Z
UID:2615-1771574400-1771606800@avhmusic.com
SUMMARY:Frank Matchams
DESCRIPTION:9.30-11.30pm
URL:https://avhmusic.com/event/frank-matchams-5
LOCATION:Frank Matchams\, 1-3 Harris Promenade\, Douglas\, Isle of Man\, IM1 2RW\, United Kingdom
CATEGORIES:Covers Gigs,Douglas Gigs
ATTACH;FMTTYPE=image/jpeg:https://avhmusic.com/wp-content/uploads/2025/09/download-8-copy-2.jpg
END:VEVENT
BEGIN:VEVENT
DTSTART;TZID=UTC:20260228T170000
DTEND;TZID=UTC:20260228T200000
DTSTAMP:20260423T232614
CREATED:20251119T180511Z
LAST-MODIFIED:20251119T180511Z
UID:2655-1772298000-1772308800@avhmusic.com
SUMMARY:Henderson & Glass
DESCRIPTION:Alex goes back at first Henderson & Glass- gorgeous place\, great cocktails\, great ales\, great small plates\, great music and great vibes! Alex on 5-8pm 
URL:https://avhmusic.com/event/henderson-glass-8
LOCATION:Henderson & Glass\, 11 Castle Street\, Douglas\, Isle of Man\, IM1 2EX\, United Kingdom
CATEGORIES:2026,Covers Gigs,Douglas Gigs,Originals Gig
ATTACH;FMTTYPE=image/png:https://avhmusic.com/wp-content/uploads/2025/07/logo_a18ea11a3acb4609479c3fa005cd3d64_2x.png
END:VEVENT
BEGIN:VEVENT
DTSTART;TZID=UTC:20260306T213000
DTEND;TZID=UTC:20260306T233000
DTSTAMP:20260423T232614
CREATED:20250910T182025Z
LAST-MODIFIED:20250910T182025Z
UID:2618-1772832600-1772839800@avhmusic.com
SUMMARY:Frank Matchams
DESCRIPTION:9.30-11.30pm
URL:https://avhmusic.com/event/frank-matchams-6
LOCATION:Frank Matchams\, 1-3 Harris Promenade\, Douglas\, Isle of Man\, IM1 2RW\, United Kingdom
CATEGORIES:Covers Gigs,Douglas Gigs
ATTACH;FMTTYPE=image/png:https://avhmusic.com/wp-content/uploads/2024/10/Untitled-design-24-copy.png
END:VEVENT
BEGIN:VEVENT
DTSTART;TZID=UTC:20260328T170000
DTEND;TZID=UTC:20260328T200000
DTSTAMP:20260423T232614
CREATED:20251119T180652Z
LAST-MODIFIED:20251119T180652Z
UID:2657-1774717200-1774728000@avhmusic.com
SUMMARY:Henderson & Glass
DESCRIPTION:Alex goes back to Henderson & Glass- gorgeous place\, great cocktails\, great ales\, great small plates\, great music and great vibes!Alex on 5-8pm
URL:https://avhmusic.com/event/henderson-glass-9
LOCATION:Henderson & Glass\, 11 Castle Street\, Douglas\, Isle of Man\, IM1 2EX\, United Kingdom
CATEGORIES:2026,Covers Gigs,Douglas Gigs,Originals Gig
ATTACH;FMTTYPE=image/png:https://avhmusic.com/wp-content/uploads/2025/07/logo_a18ea11a3acb4609479c3fa005cd3d64_2x.png
END:VEVENT
BEGIN:VEVENT
DTSTART;TZID=UTC:20260410T213000
DTEND;TZID=UTC:20260410T233000
DTSTAMP:20260423T232614
CREATED:20250910T182413Z
LAST-MODIFIED:20250910T182413Z
UID:2620-1775856600-1775863800@avhmusic.com
SUMMARY:Frank Matchams
DESCRIPTION:9.30pm -11.30 pm
URL:https://avhmusic.com/event/frank-matchams-7
LOCATION:Frank Matchams\, 1-3 Harris Promenade\, Douglas\, Isle of Man\, IM1 2RW\, United Kingdom
CATEGORIES:Covers Gigs,Douglas Gigs
ATTACH;FMTTYPE=image/png:https://avhmusic.com/wp-content/uploads/2025/07/ALEX-HARRIS-e1757528569690.png
END:VEVENT
BEGIN:VEVENT
DTSTART;TZID=UTC:20260417T211500
DTEND;TZID=UTC:20260418T000000
DTSTAMP:20260423T232614
CREATED:20260409T152509Z
LAST-MODIFIED:20260409T152509Z
UID:2776-1776460500-1776470400@avhmusic.com
SUMMARY:Quids Inn
DESCRIPTION:Alex goes back to the legendary Quids Inn – 9.15pm start!
URL:https://avhmusic.com/event/quids-inn-3
LOCATION:The Original Quids Inn\, 56 Loch Promenade\, Douglas\, Isle of Man\, IM1 2NA\, United Kingdom
CATEGORIES:2026,Covers Gigs,Originals Gig
ATTACH;FMTTYPE=image/png:https://avhmusic.com/wp-content/uploads/2025/09/alex-at-quids--e1765803128513.png
END:VEVENT
BEGIN:VEVENT
DTSTART;TZID=UTC:20260501T213000
DTEND;TZID=UTC:20260501T233000
DTSTAMP:20260423T232614
CREATED:20260401T134514Z
LAST-MODIFIED:20260401T134514Z
UID:2762-1777671000-1777678200@avhmusic.com
SUMMARY:Frank Matchams
DESCRIPTION:Alex goes back to Frank’s! 9.30pm start
URL:https://avhmusic.com/event/frank-matchams-8
LOCATION:Frank Matchams\, 1-3 Harris Promenade\, Douglas\, Isle of Man\, IM1 2RW\, United Kingdom
CATEGORIES:2026,Covers Gigs
ATTACH;FMTTYPE=image/jpeg:https://avhmusic.com/wp-content/uploads/2020/01/74601265_10162316470610632_193817189575294976_n.jpg
END:VEVENT
BEGIN:VEVENT
DTSTART;TZID=Europe/London:20260508T200000
DTEND;TZID=Europe/London:20260508T223000
DTSTAMP:20260423T232614
CREATED:20260401T134854Z
LAST-MODIFIED:20260415T121133Z
UID:2764-1778270400-1778279400@avhmusic.com
SUMMARY:Black Dog Oven
DESCRIPTION:Alex Returns to the Black Dog Oven in Peel for a awesome Fri night slot to help you party your way into the weekend! Starts 8pm
URL:https://avhmusic.com/event/black-dog-oven-3
LOCATION:Black Dog Oven\, East Quay\, Peel\, Isle of MAn\, IM5 1AR\, United Kingdom
CATEGORIES:2026,Covers Gigs,Originals Gig
ATTACH;FMTTYPE=image/jpeg:https://avhmusic.com/wp-content/uploads/2018/04/25289392_10159650255460632_1463878242641913252_n.jpg
ORGANIZER;CN="Black Dog Oven":MAILTO:Blackdogoven@gmail.com
END:VEVENT
BEGIN:VEVENT
DTSTART;TZID=UTC:20260801T213000
DTEND;TZID=UTC:20260801T233000
DTSTAMP:20260423T232614
CREATED:20260401T135650Z
LAST-MODIFIED:20260401T135650Z
UID:2766-1785619800-1785627000@avhmusic.com
SUMMARY:Franks Matchams
DESCRIPTION:Alex goes back to Franks for a 9.30pm start.
URL:https://avhmusic.com/event/franks-matchams
LOCATION:Frank Matchams\, 1-3 Harris Promenade\, Douglas\, Isle of Man\, IM1 2RW\, United Kingdom
CATEGORIES:2026,Covers Gigs
ATTACH;FMTTYPE=image/png:https://avhmusic.com/wp-content/uploads/2025/09/Untitled-design-copy.png
END:VEVENT
BEGIN:VEVENT
DTSTART;TZID=UTC:20260904T213000
DTEND;TZID=UTC:20260904T233000
DTSTAMP:20260423T232614
CREATED:20260401T135845Z
LAST-MODIFIED:20260401T135845Z
UID:2768-1788557400-1788564600@avhmusic.com
SUMMARY:Frank Matchams
DESCRIPTION:Alex goes back to Franks for a 9.30pm start.
URL:https://avhmusic.com/event/frank-matchams-9
LOCATION:Frank Matchams\, 1-3 Harris Promenade\, Douglas\, Isle of Man\, IM1 2RW\, United Kingdom
CATEGORIES:2026,Covers Gigs
ATTACH;FMTTYPE=image/png:https://avhmusic.com/wp-content/uploads/2024/10/Untitled-design-24-copy.png
END:VEVENT
END:VCALENDAR